BEGIN:VCALENDAR
VERSION:2.0
CALSCALE:GREGORIAN
PRODID:adamgibbons/ics
METHOD:PUBLISH
X-PUBLISHED-TTL:PT1H
BEGIN:VEVENT
UID:483@mallorca.convoca.la
SUMMARY:Hacklab en l'Elèctrica
DTSTAMP:20260425T130538Z
DTSTART:20260502T090000Z
DTEND:20260502T110000Z
DESCRIPTION:Desconnecta’t de les Big Tech i vine al Hacklab!\n\nCada primer
	 i tercer dissabte del mes a les 10h ens trobam amb BULMA al Hacklab\nen l
	’Ateneu Popular L’Elèctrica per conspirar\, desobeir i reapropiar-nos de l
	es\neines digitals.\n\nVine a parlar de seguretat\, privacitat\, GNU/Linux
	\, Fedivers\, des-Googlitza’t\,\nallibera el mòbil\, intel·ligències artif
	icials i molt més.\n\nNo cal que siguis experta. Només que en tinguis prou
	 del control algorítmic i\nvulguis guanyar sobirania digital.\n\nPorta el 
	teu projecte o del teu col·lectiu\, el teu ordinador o només les ganes\,\n
	i teixim juntes un espai tecnològic fora de la lògica extractivista de Sil
	icon\nValley.\n\nEns volem lliures també a la xarxa. Ens organitzam per de
	sfer-nos del codi\ntancat i construir comunitats descentralitzades\, autòn
	omes i combatives.
URL:https://mallorca.convoca.la/event/hacklab-en-lelectrica-13
GEO:39.5694355;2.6541982
LOCATION:L'Elèctrica - Ateneu Popular - Plaça Quadrado\, 9B\, Palma
STATUS:CONFIRMED
CATEGORIES:autogestió,elèctrica,sobirania digital,hacklab
X-ALT-DESC;FMTTYPE=text/html:<p><strong>Desconnecta’t de les Big Tech i vin
	e al Hacklab!</strong></p><p>Cada primer i tercer dissabte del mes a les 1
	0h ens trobam amb BULMA al Hacklab en l’Ateneu Popular L’Elèctrica per con
	spirar, desobeir i reapropiar-nos de les eines digitals.</p><p>Vine a parl
	ar de seguretat, privacitat, GNU/Linux, Fedivers, des-Googlitza’t, alliber
	a el mòbil, intel·ligències artificials i molt més.</p><p>No cal que sigui
	s experta. Només que en tinguis prou del control algorítmic i vulguis guan
	yar sobirania digital.</p><p>Porta el teu projecte o del teu col·lectiu, e
	l teu ordinador o només les ganes, i teixim juntes un espai tecnològic for
	a de la lògica extractivista de Silicon Valley.</p><p>Ens volem lliures ta
	mbé a la xarxa. Ens organitzam per desfer-nos del codi tancat i construir 
	comunitats descentralitzades, autònomes i combatives.</p>
BEGIN:VALARM
ACTION:DISPLAY
DESCRIPTION:Hacklab en l'Elèctrica
TRIGGER:-PT1H
END:VALARM
END:VEVENT
END:VCALENDAR
