BEGIN:VCALENDAR
VERSION:2.0
CALSCALE:GREGORIAN
PRODID:adamgibbons/ics
METHOD:PUBLISH
X-PUBLISHED-TTL:PT1H
BEGIN:VEVENT
UID:482@mallorca.convoca.la
SUMMARY:Obrers i sindicats: de la dictadura a la democràcia
DTSTAMP:20260420T173229Z
DTSTART:20260424T170000Z
DESCRIPTION:Aquest divendres\, 24 d'abril\, no us podeu perdre la presentac
	ió del llibre\nObrers i sindicats: de la dictadura a la democràcia\, de Pe
	re J. Garcia Munar.\n\nEl llibre explica el període de la Transició i com 
	el moviment obrer i popular\nva ser una peça clau per transformar la dicta
	dura franquista en una democràcia.\nUna història que s’inicià amb les llui
	tes clandestines fins a la consolidació\ndels sindicats com un dels pilars
	 del nou sistema\, tot passant per l’onada de\nvagues de 1976\, la legalit
	zació el 1977\, les diferents eleccions o el cop\nd’estat d’en Tejero el 1
	981.\n\nL'autor i Toni Pallicer es trobaran a L'Elèctrica per conversar so
	bre els\nesdeveniments més importants d'aquesta època i fer-ne també una l
	ectura en clau\nd'actualitat. Us hi esperam!
URL:https://mallorca.convoca.la/event/obrers-i-sindicats-de-la-dictadura-a-
	la-democracia
LOCATION:L'Elèctrica - Ateneu Popular - Plaça Quadrado\, 9B\, Palma
STATUS:CONFIRMED
CATEGORIES:Palma,elèctrica,presentació llibre,xerrada
X-ALT-DESC;FMTTYPE=text/html:<p>Aquest divendres, 24 d'abril, no us podeu p
	erdre la presentació del llibre <em>Obrers i sindicats: de la dictadura a 
	la democràcia</em>, de Pere J. Garcia Munar.<br><br>El llibre explica el p
	eríode de la Transició i com el moviment obrer i popular va ser una peça c
	lau per transformar la dictadura franquista en una democràcia. Una històri
	a que s’inicià amb les lluites clandestines fins a la consolidació dels si
	ndicats com un dels pilars del nou sistema, tot passant per l’onada de vag
	ues de 1976, la legalització el 1977, les diferents eleccions o el cop d’e
	stat d’en Tejero el 1981.<br><br>L'autor i Toni Pallicer es trobaran a L'E
	lèctrica per conversar sobre els esdeveniments més importants d'aquesta èp
	oca i fer-ne també una lectura en clau d'actualitat. Us hi esperam!</p>
END:VEVENT
BEGIN:VEVENT
UID:465@mallorca.convoca.la
SUMMARY:Cicle de cine africà a l'Elèctrica
DTSTAMP:20260420T173229Z
DTSTART:20260426T160000Z
DTEND:20260426T193000Z
DESCRIPTION:Aquesta primavera et convidam al cicle de cine africà que es du
	rà a terme a\nl'Elèctrica els diumenges alternatius de la primavera d'aque
	st any 2026 a partir\nde les 18 de la horabaixa (la película començarà a l
	es 18:30). Posteriorment\nestareu igualment convidats a quedar fent el dar
	rer beure de la setmana i\ndesfermar un poc la llengua en companyia.\n\n\n
	\nAquest segon dia veurem Teza (Rosada) de Haile Gerima. Aquesta pel·licul
	a ens\nsitua a la Etiopia de l'any 90. Un al·lot torna d'estodiar medicina
	 a l'alemania\noriental i es troba un pais devastat per la guerra civil. L
	a mateixa que va\nacabar amb la junta militar marxista que havia tractat d
	e governar el pais\ndurant mes de 15 anys. Navegarem\, amb el protagonista
	\, aquells anys terbols de\nla història etíope.\n\n\n\nUs hi esperem!\n\nS
	alut
URL:https://mallorca.convoca.la/event/cicle-de-cine-africa-a-lelectrica
LOCATION:L'Elèctrica - Ateneu Popular - Plaça Quadrado\, 9B\, Palma
STATUS:CONFIRMED
CATEGORIES:Palma,cinema,elèctrica,projecció
X-ALT-DESC;FMTTYPE=text/html:<p>Aquesta primavera et convidam al cicle de c
	ine africà que es durà a terme a l'Elèctrica els diumenges alternatius de 
	la primavera d'aquest any 2026 a partir de les 18 de la horabaixa (la pelí
	cula començarà a les 18:30). Posteriorment estareu igualment convidats a q
	uedar fent el darrer beure de la setmana i desfermar un poc la llengua en 
	companyia.</p><p></p><p>Aquest segon dia veurem Teza (Rosada) de Haile Ger
	ima. Aquesta pel·licula ens situa a la Etiopia de l'any 90. Un al·lot torn
	a d'estodiar medicina a l'alemania oriental i es troba un pais devastat pe
	r la guerra civil. La mateixa que va acabar amb la junta militar marxista 
	que havia tractat de governar el pais durant mes de 15 anys. Navegarem, am
	b el protagonista, aquells anys terbols de la història etíope.</p><p></p><
	p>Us hi esperem!</p><p>Salut</p>
END:VEVENT
BEGIN:VEVENT
UID:472@mallorca.convoca.la
SUMMARY:Ateneu (abril)
DTSTAMP:20260420T173229Z
DTSTART:20260430T170000Z
DTEND:20260430T190000Z
DESCRIPTION:Trobada regular cada darrer dijous de mes. Volem fer xarxa\, xe
	rrar d’art\, de les\nvostres i les nostres inquietuds\, interessos o si no
	més voleu fer un beure\,\ndoncs això\, teniu les portes obertes.\n\nObert 
	a tothom. No es requereix etiqueta\, ni entrada\, ni res. Són trobades\nba
	stant informals.\n\nhttps://gatamoixa.cat/ateneu/ [https://gatamoixa.cat/a
	teneu/]\n\n
URL:https://mallorca.convoca.la/event/ateneu-abril
LOCATION:Adrover Foto - carrer Camí de mar\, 35. Campos
STATUS:CONFIRMED
CATEGORIES:art,ateneu,campos,mallorca,trobada,xarxa,xerrada
X-ALT-DESC;FMTTYPE=text/html:<p><strong>Trobada regular</strong> cada darre
	r dijous de mes. Volem fer xarxa, xerrar d’art, de les vostres i les nostr
	es inquietuds, interessos o si només voleu fer un beure, doncs això, teniu
	 les portes obertes.</p><p>Obert a tothom. No es requereix etiqueta, ni en
	trada, ni res. Són trobades bastant informals.</p><p><a target="_blank" hr
	ef="https://gatamoixa.cat/ateneu/">https://gatamoixa.cat/ateneu/</a></p><p
	></p>
END:VEVENT
BEGIN:VEVENT
UID:478@mallorca.convoca.la
SUMMARY:MANIFESTACIÓ UNITARIA 1r DE MAIG 2026\, 11:30 h.\, PLAÇA D'ESPANYA 
	DE PALMA. - YANKEES\, TORNEU A CASA! DEXEU-NOS EN PAU -
DTSTAMP:20260420T173229Z
DTSTART:20260501T093000Z
DESCRIPTION:MANIFESTACIÓ UNITARIA 1r DE MAIG 2026\, 11:30 h.\, PLAÇA D'ESPA
	NYA DE PALMA.\n- YANKEES\, TORNEU A CASA! DEXEU-NOS EN PAU -\nDe la Plaça 
	d'Espanya fins als "Jardins de S'hort del Rei" (Ciutat de Mallorca)\,\n11:
	30h.\n\nCOMBATEM LA SEVA COBDÍCIA\nELS TREBALLADORS Y TREBALLADORES SOM MA
	JORIA\n\n· Per la pau i la llibertat dels pobles\n· Per l’accés a un habit
	atge digne\n· Per la plena ocupació sense racisme\n· Per la reducció de la
	 Jornada Laboral\n· Per l’augment del sous per arribar a final de mes\n· P
	er la supressió de la bretxa salarial de gènere\n· Per unes pensions digne
	s després de tota una vida d'esforç\n\nConvoquen: CGT (cgtbalears.org\n[ht
	tps://l.facebook.com/l.php?u=http%3A%2F%2Fcgtbalears.org%2F%3Ffbclid%3DIwZ
	Xh0bgNhZW0CMTAAYnJpZBEwbWtyVjlUZ3hkYkxsdDNWOHNydGMGYXBwX2lkEDIyMjAzOTE3ODg
	yMDA4OTIAAR7RPq9pcYRjoBjGOKPDw9Ixe6cYtjRihq5_LTdrGiFFzq1M0Lp9xOIq8ksHOg_ae
	m_6lC3xnvi1mgqE6fuacomDg&h=AT7ZVimPEWfNGBsaeEZ42cRRY91SClIZ21vbsYrssol4kT-
	a-V2r4qekbBjm-lxupWLv_JlmvS1NO_PjHqledsax9eOAhnhdNIPJ1v-HSTf4ONmMnDfl4eTnS
	4T_MX9OtOsDtwPBnP1YfG4Z&__tn__=q&c[0]=AT4Rb1eXu7rDv_sBt8CSxRrL2gCS6U-LIEEO
	rF4_1nBp4QbtpDm9y7bsnYx4ykm2GaESso141DVJJCYIgHdvMMCiCPt_N4Y1qsdplwRAHB95ev
	mO18olSCtOovCyPWFD-CtRxVYyYdPFlBxBE42HX9EdJQSrmCY7TE4])\ni CNT (palma.cnt.
	es [http://palma.cnt.es/])\n\nContra el sindicalisme burgès: TOTS ELS DIES
	 PRIMER DE MAIG!
URL:https://mallorca.convoca.la/event/manifestacio-unitaria-1r-de-maig-2026
	-1130-h-placa-despanya-de-palma-yankees-torneu-a-casa-dexeu-nos-en-pau-
LOCATION:Plaça d'Espanya - Plaça d'Espanya\, Canavall\, Palma\, Illes Balea
	rs\, 07002\, España
STATUS:CONFIRMED
CATEGORIES:CGT,CNT,Palma,manifestació
X-ALT-DESC;FMTTYPE=text/html:<p><strong>MANIFESTACIÓ UNITARIA 1r DE MAIG 20
	26, 11:30 h., PLAÇA D'ESPANYA DE PALMA.<br>- YANKEES, TORNEU A CASA! DEXEU
	-NOS EN PAU -</strong><br>De la Plaça d'Espanya fins als "Jardins de S'hor
	t del Rei" (Ciutat de Mallorca), 11:30h.</p><p>COMBATEM LA SEVA COBDÍCIA<b
	r>ELS TREBALLADORS Y TREBALLADORES SOM MAJORIA</p><p>· Per la pau i la lli
	bertat dels pobles<br>· Per l’accés a un habitatge digne<br>· Per la plena
	 ocupació sense racisme<br>· Per la reducció de la Jornada Laboral<br>· Pe
	r l’augment del sous per arribar a final de mes<br>· Per la supressió de l
	a bretxa salarial de gènere<br>· Per unes pensions dignes després de tota 
	una vida d'esforç</p><p>Convoquen: CGT (<a href="https://l.facebook.com/l.
	php?u=http%3A%2F%2Fcgtbalears.org%2F%3Ffbclid%3DIwZXh0bgNhZW0CMTAAYnJpZBEw
	bWtyVjlUZ3hkYkxsdDNWOHNydGMGYXBwX2lkEDIyMjAzOTE3ODgyMDA4OTIAAR7RPq9pcYRjoB
	jGOKPDw9Ixe6cYtjRihq5_LTdrGiFFzq1M0Lp9xOIq8ksHOg_aem_6lC3xnvi1mgqE6fuacomD
	g&amp;h=AT7ZVimPEWfNGBsaeEZ42cRRY91SClIZ21vbsYrssol4kT-a-V2r4qekbBjm-lxupW
	Lv_JlmvS1NO_PjHqledsax9eOAhnhdNIPJ1v-HSTf4ONmMnDfl4eTnS4T_MX9OtOsDtwPBnP1Y
	fG4Z&amp;__tn__=q&amp;c[0]=AT4Rb1eXu7rDv_sBt8CSxRrL2gCS6U-LIEEOrF4_1nBp4Qb
	tpDm9y7bsnYx4ykm2GaESso141DVJJCYIgHdvMMCiCPt_N4Y1qsdplwRAHB95evmO18olSCtOo
	vCyPWFD-CtRxVYyYdPFlBxBE42HX9EdJQSrmCY7TE4" target="_blank"><strong>cgtbal
	ears.org</strong></a>) i CNT (<a href="http://palma.cnt.es/" target="_blan
	k"><strong>palma.cnt.es</strong></a>)</p><p>Contra el sindicalisme burgès:
	 TOTS ELS DIES PRIMER DE MAIG!</p>
END:VEVENT
BEGIN:VEVENT
UID:479@mallorca.convoca.la
SUMMARY:CONCERT SINDICAL DE LA CNT\, 1r de maig 2026
DTSTAMP:20260420T173229Z
DTSTART:20260501T143000Z
DTEND:20260501T210000Z
DESCRIPTION:CONCERT SINDICAL DE LA CNT\, 1r de maig 2026\nParc de la Mar | 
	Ses Voltes | Palma\nA partir de les 16:30 h.\n••••••••••••••••••••••••••••
	•••••\nAmb les actuacions de:\n- LEY MORDAZA (Punk Rock)\n- DENIGRANDO EL 
	ENTORNO (Punk Rock)\n- THE ENLACES (Pop-Rock Alternatiu)\n- BLACK CHAIN (R
	ock Alternatiu)\n- ROSIN DE PALO (Experimental)\n\nMúsica\, diversió i mol
	t més\nNO T´HO PERDIS!\n•••••••••••••••••••••••••••••••••\nOrganitza: CNT 
	• c/ Joan Alcover 54 baixos dreta • Palma\n971 726 461 – palma.cnt.es\n[ht
	tps://l.facebook.com/l.php?u=http%3A%2F%2Fpalma.cnt.es%2F%3Ffbclid%3DIwZXh
	0bgNhZW0CMTAAYnJpZBExaEx5alROVllzdzZJYW53RXNydGMGYXBwX2lkEDIyMjAzOTE3ODgyM
	DA4OTIAAR7ZNgdjEDtWrT3PbKMAC4rrvna_HHcxhqdYq7MtQeGLY8EvD9-CtrIzbZiRjw_aem_
	3cTXu6UdNGs-ANdKMLqSEw&h=AT51e8kB9qA5XdJomdV4Zn1l7mvA3whUSV8JgA1T7XT66oiP1
	Og0U15W5L7ipyvqeuVCcIvTIJNZlXQYlhWWwcJkl2hLouoKQdsnhKcrX_w_UuFKnlIfVrFdDeB
	_WndsYYL5IgizlywMJOjW&__tn__=q&c[0]=AT4qo_WRYQUPlZG-fKFgrkIws_6SVHd-o8mQxD
	xLLmlEsLepCM5oM8BjF-bXOZCSGTo8X-J_SDbC45pT_woDm-prGqOA9HXkXOD8ERwgQAnQRPQW
	zNuV0cvqk6AmBrOjkZ-V7oOBvtFFUWVPVUG4HkLJ-VqqnKOvEBE]\nSALUT I ANARCOSINDIC
	ALISME!
URL:https://mallorca.convoca.la/event/concert-sindical-de-la-cnt-1r-de-maig
	-2026
LOCATION:Ses Voltes - Passeig Dalt Murada\,1A 07001 Palma (Illes Balears)
STATUS:CONFIRMED
CATEGORIES:1 de Maig,CNT,Palma,concerts
X-ALT-DESC;FMTTYPE=text/html:<p><strong>CONCERT SINDICAL DE LA CNT, 1r de m
	aig 2026</strong><br>Parc de la Mar | Ses Voltes | Palma<br>A partir de le
	s 16:30 h.<br>•••••••••••••••••••••••••••••••••<br><strong>Amb les actuaci
	ons de:</strong><br>- LEY MORDAZA (Punk Rock)<br>- DENIGRANDO EL ENTORNO (
	Punk Rock)<br>- THE ENLACES (Pop-Rock Alternatiu)<br>- BLACK CHAIN (Rock A
	lternatiu)<br>- ROSIN DE PALO (Experimental)</p><p>Música, diversió i molt
	 més<br>NO T´HO PERDIS!<br>•••••••••••••••••••••••••••••••••<br>Organitza:
	 CNT • c/ Joan Alcover 54 baixos dreta • Palma<br>971 726 461 – <a href="h
	ttps://l.facebook.com/l.php?u=http%3A%2F%2Fpalma.cnt.es%2F%3Ffbclid%3DIwZX
	h0bgNhZW0CMTAAYnJpZBExaEx5alROVllzdzZJYW53RXNydGMGYXBwX2lkEDIyMjAzOTE3ODgy
	MDA4OTIAAR7ZNgdjEDtWrT3PbKMAC4rrvna_HHcxhqdYq7MtQeGLY8EvD9-CtrIzbZiRjw_aem
	_3cTXu6UdNGs-ANdKMLqSEw&amp;h=AT51e8kB9qA5XdJomdV4Zn1l7mvA3whUSV8JgA1T7XT6
	6oiP1Og0U15W5L7ipyvqeuVCcIvTIJNZlXQYlhWWwcJkl2hLouoKQdsnhKcrX_w_UuFKnlIfVr
	FdDeB_WndsYYL5IgizlywMJOjW&amp;__tn__=q&amp;c[0]=AT4qo_WRYQUPlZG-fKFgrkIws
	_6SVHd-o8mQxDxLLmlEsLepCM5oM8BjF-bXOZCSGTo8X-J_SDbC45pT_woDm-prGqOA9HXkXOD
	8ERwgQAnQRPQWzNuV0cvqk6AmBrOjkZ-V7oOBvtFFUWVPVUG4HkLJ-VqqnKOvEBE" target="
	_blank"><strong><u>palma.cnt.es</u></strong></a><br><strong>SALUT I ANARCO
	SINDICALISME!</strong></p>
END:VEVENT
BEGIN:VEVENT
UID:481@mallorca.convoca.la
SUMMARY:Presentació del Sindicat de Llogateres de Mallorca
DTSTAMP:20260420T173229Z
DTSTART:20260509T100000Z
DTEND:20260509T113000Z
DESCRIPTION:Neix el Sindicat de Llogateres de Mallorca per fer front a l'es
	peculació\nimmobiliària i us convidam a la presentació oficial!\n\nHi part
	iciparan: Membres del grup promotor del Sindicat de Llogateres de\nMallorc
	a\, el Sindicat de llogateres Catalunya\, València\, Confereración de\nSin
	dicatos de Inquilinas i Jaime Palomera\, antropòleg investigador especiali
	tzat\nen polítiques d'habitatge de l'Institut d'Investigació IDRA.\n\nComp
	artirem com organitzar-nos per plantar cara als abusos del mercat. Posem f
	re\nal rendisme\, l'especulació i la turistització.\n\nUs hi esperam!
URL:https://mallorca.convoca.la/event/presentacio-del-sindicat-de-llogatere
	s-de-mallorca
LOCATION:Cine Ciutat - Palma - Cine Ciutat\, Carrer de l'Emperadriu Eugènia
	\, 6\, Norte\, 07010 Palma\, Illes Balears
STATUS:CONFIRMED
CATEGORIES:Palma,presentació,sindicat llogateres
X-ALT-DESC;FMTTYPE=text/html:<p>Neix el Sindicat de Llogateres de Mallorca 
	per fer front a l'especulació immobiliària i us convidam a la presentació 
	oficial!</p><p>Hi participaran: Membres del grup promotor del Sindicat de 
	Llogateres de Mallorca, el Sindicat de llogateres Catalunya, València, Con
	fereración de Sindicatos de Inquilinas i Jaime Palomera, antropòleg invest
	igador especialitzat en polítiques d'habitatge de l'Institut d'Investigaci
	ó IDRA.</p><p>Compartirem com organitzar-nos per plantar cara als abusos d
	el mercat. Posem fre al rendisme, l'especulació i la turistització.</p><p>
	Us hi esperam!</p>
END:VEVENT
BEGIN:VEVENT
UID:466@mallorca.convoca.la
SUMMARY:Cicle de cine africà a l'Elèctrica
DTSTAMP:20260420T173229Z
DTSTART:20260510T160000Z
DTEND:20260510T193000Z
DESCRIPTION:Aquesta primavera et convidam al cicle de cine africà que es du
	rà a terme a\nl'Elèctrica els diumenges alternatius de la primavera d'aque
	st any 2026 a partir\nde les 18 de la horabaixa (la película començarà a l
	es 18:30). Posteriorment\nestareu igualment convidats a quedar fent el dar
	rer beure de la setmana i\ndesfermar un poc la llengua en companyia.\n\n\n
	\nAquest tercer dia veurem Touki Bouki de Djibril Diop Mambety. Una de les
	\npel·lícules africanes mes reconegudes internacionalment i\, pels temes q
	ue\ntracta\, notablement avançada al seu temps. Amb el seu estil molt pers
	onal i\neclèctic el director ens conta una història prou recurrent al imag
	inari de\nqualsevol païs post-colonial que es la d'una parella de joves qu
	e somien amb\nemigrar a la metròpoli. Amb aquesta intenció es forma una so
	rt de road movie que\nens deixa fer una mirada al Senegal dels anys 70.\n\
	n\n\nUs hi esperem!\n\nSalut
URL:https://mallorca.convoca.la/event/cicle-de-cine-africa-a-lelectrica-1
LOCATION:L'Elèctrica - Ateneu Popular - Plaça Quadrado\, 9B\, Palma
STATUS:CONFIRMED
CATEGORIES:
X-ALT-DESC;FMTTYPE=text/html:<p>Aquesta primavera et convidam al cicle de c
	ine africà que es durà a terme a l'Elèctrica els diumenges alternatius de 
	la primavera d'aquest any 2026 a partir de les 18 de la horabaixa (la pelí
	cula començarà a les 18:30). Posteriorment estareu igualment convidats a q
	uedar fent el darrer beure de la setmana i desfermar un poc la llengua en 
	companyia.</p><p></p><p>Aquest tercer dia veurem Touki Bouki de Djibril Di
	op Mambety. Una de les pel·lícules africanes mes reconegudes internacional
	ment i, pels temes que tracta, notablement avançada al seu temps. Amb el s
	eu estil molt personal i eclèctic el director ens conta una història prou 
	recurrent al imaginari de qualsevol païs post-colonial que es la d'una par
	ella de joves que somien amb emigrar a la metròpoli. Amb aquesta intenció 
	es forma una sort de <em>road movie </em>que ens deixa fer una mirada al S
	enegal dels anys 70.</p><p></p><p>Us hi esperem!</p><p>Salut</p>
END:VEVENT
BEGIN:VEVENT
UID:467@mallorca.convoca.la
SUMMARY:Cicle de cine africà a l'Elèctrica
DTSTAMP:20260420T173229Z
DTSTART:20260524T160000Z
DTEND:20260524T193000Z
DESCRIPTION:Aquesta primavera et convidam al cicle de cine africà que es du
	rà a terme a\nl'Elèctrica els diumenges alternatius de la primavera d'aque
	st any 2026 a partir\nde les 18 de la horabaixa (la película començarà a l
	es 18:30). Posteriorment\nestareu igualment convidats a quedar fent el dar
	rer beure de la setmana i\ndesfermar un poc la llengua en companyia.\n\n\n
	\nAquest quart dia veurem Taht el shajara (Sota les figueres) de Erige Seh
	iri. Amb\naquesta pel·lícula la directora ens deixa fer una petita mirada 
	a les formes de\nrelacionar-se del jovent de Tunisia\, les seves inquietud
	s i preocupacions. Tota\nsucceeix en un dia normal de feina a una plantaci
	ó de figueres en la que\, a\ntravés de les conversacions\, aparèixen histò
	ries que s'entrellaçen i separen per\nformar una imatge.\n\n\n\nUs hi espe
	rem!\n\nSalut
URL:https://mallorca.convoca.la/event/cicle-de-cine-africa-a-lelectrica-2
LOCATION:L'Elèctrica - Ateneu Popular - Plaça Quadrado\, 9B\, Palma
STATUS:CONFIRMED
CATEGORIES:cinefòrum,cinema,elèctrica,projecció
X-ALT-DESC;FMTTYPE=text/html:<p>Aquesta primavera et convidam al cicle de c
	ine africà que es durà a terme a l'Elèctrica els diumenges alternatius de 
	la primavera d'aquest any 2026 a partir de les 18 de la horabaixa (la pelí
	cula començarà a les 18:30). Posteriorment estareu igualment convidats a q
	uedar fent el darrer beure de la setmana i desfermar un poc la llengua en 
	companyia.</p><p></p><p>Aquest quart dia veurem Taht el shajara (Sota les 
	figueres) de Erige Sehiri. Amb aquesta pel·lícula la directora ens deixa f
	er una petita mirada a les formes de relacionar-se del jovent de Tunisia, 
	les seves inquietuds i preocupacions. Tota succeeix en un dia normal de fe
	ina a una plantació de figueres en la que, a través de les conversacions, 
	aparèixen històries que s'entrellaçen i separen per formar una imatge.</p>
	<p></p><p>Us hi esperem!</p><p>Salut</p>
END:VEVENT
BEGIN:VEVENT
UID:468@mallorca.convoca.la
SUMMARY:Cicle de cine africà a l'Elèctrica
DTSTAMP:20260420T173229Z
DTSTART:20260607T160000Z
DTEND:20260607T193000Z
DESCRIPTION:Aquesta primavera et convidam al cicle de cine africà que es du
	rà a terme a\nl'Elèctrica els diumenges alternatius de la primavera d'aque
	st any 2026 a partir\nde les 18 de la horabaixa (la película començarà a l
	es 18:30). Posteriorment\nestareu igualment convidats a quedar fent el dar
	rer beure de la setmana i\ndesfermar un poc la llengua en companyia.\n\n\n
	\nAquest cinquè dia veurem Moolaadè (Protecció) de Ousmane Sembene. Ens na
	rrarà la\nhistòria d'una dona que s'oposa a la mutilació genital d'un grup
	 de nines\npetites del seu poblat. Amb aquesta intenció s'haura d'enfronta
	r a tot el poble\,\nque esgrimiran la tradició i la convenció social contr
	a ella.\n\nUs hi esperem!\n\nSalut
URL:https://mallorca.convoca.la/event/cicle-de-cine-africa-a-lelectrica-3
LOCATION:L'Elèctrica - Ateneu Popular - Plaça Quadrado\, 9B\, Palma
STATUS:CONFIRMED
CATEGORIES:Palma,cinefòrum,cinema,elèctrica,projecció
X-ALT-DESC;FMTTYPE=text/html:<p>Aquesta primavera et convidam al cicle de c
	ine africà que es durà a terme a l'Elèctrica els diumenges alternatius de 
	la primavera d'aquest any 2026 a partir de les 18 de la horabaixa (la pelí
	cula començarà a les 18:30). Posteriorment estareu igualment convidats a q
	uedar fent el darrer beure de la setmana i desfermar un poc la llengua en 
	companyia.</p><p></p><p>Aquest cinquè dia veurem Moolaadè (Protecció) de O
	usmane Sembene. Ens narrarà la història d'una dona que s'oposa a la mutila
	ció genital d'un grup de nines petites del seu poblat. Amb aquesta intenci
	ó s'haura d'enfrontar a tot el poble, que esgrimiran la tradició i la conv
	enció social contra ella.</p><p>Us hi esperem!</p><p>Salut</p>
END:VEVENT
END:VCALENDAR
